BEGIN:VCALENDAR
VERSION:2.0
PRODID:-//Les horizons de Douna - ECPv6.1.3//NONSGML v1.0//EN
CALSCALE:GREGORIAN
METHOD:PUBLISH
X-ORIGINAL-URL:https://leshorizonsdedouna.com
X-WR-CALDESC:évènements pour Les horizons de Douna
REFRESH-INTERVAL;VALUE=DURATION:PT1H
X-Robots-Tag:noindex
X-PUBLISHED-TTL:PT1H
BEGIN:VTIMEZONE
TZID:Europe/Paris
BEGIN:DAYLIGHT
TZOFFSETFROM:+0100
TZOFFSETTO:+0200
TZNAME:CEST
DTSTART:20210328T010000
END:DAYLIGHT
BEGIN:STANDARD
TZOFFSETFROM:+0200
TZOFFSETTO:+0100
TZNAME:CET
DTSTART:20211031T010000
END:STANDARD
END:VTIMEZONE
BEGIN:VEVENT
DTSTART;TZID=Europe/Paris:20211127T100000
DTEND;TZID=Europe/Paris:20211127T130000
DTSTAMP:20260422T085033
CREATED:20210920T123900Z
LAST-MODIFIED:20210920T131605Z
UID:2307-1638007200-1638018000@leshorizonsdedouna.com
SUMMARY:Atelier 4 : "Insertion du support photo"
DESCRIPTION:INFORMATIONS ET RÉSERVATIONS : \nDouna\nTél: 06 32 30 65 48 \nMail: dounna@orange.fr
URL:https://leshorizonsdedouna.com/event/atelier-4-insertion-du-support-photo/
LOCATION:chez Gemmes des Archanges\, 19 chaussée de la Madeleine\, Nantes\, 44000\, France
CATEGORIES:DEUXIÈME SESSION
ORGANIZER;CN="Douna":MAILTO:dounna@orange.fr
END:VEVENT
END:VCALENDAR